BEGIN:VCALENDAR
VERSION:2.0
CALSCALE:GREGORIAN
PRODID:UnionActive
BEGIN:VEVENT
UID:11838590@ibew2.org
SUMMARY:RENEW Meeting
DESCRIPTION:Contact:  \nLink for more information: http://ibew2.org/index.cfm?zone=/unionactive/view_calendar.cfm&calendarID=11838590&thisdate=12/13/2027&useCalSection=main
LOCATION:
URL:http://ibew2.org/index.cfm?zone=/unionactive/view_calendar.cfm&calendarID=11838590&thisdate=12/13/2027&useCalSection=main
DTSTART:20271214T000000Z
DTEND:20271214T004500Z
DTSTAMP:20240229T143204
TRIGGER:-PT60M
END:VEVENT
END:VCALENDAR
