BEGIN:VCALENDAR
VERSION:2.0
CALSCALE:GREGORIAN
PRODID:UnionActive
BEGIN:VEVENT
UID:11838582@ibew2.org
SUMMARY:RENEW Meeting
DESCRIPTION:Contact:  \nLink for more information: http://ibew2.org/index.cfm?zone=/unionactive/view_calendar.cfm&calendarID=11838582&thisdate=04/12/2027&useCalSection=main
LOCATION:
URL:http://ibew2.org/index.cfm?zone=/unionactive/view_calendar.cfm&calendarID=11838582&thisdate=04/12/2027&useCalSection=main
DTSTART:20270412T230000Z
DTEND:20270412T234500Z
DTSTAMP:20240229T143251
TRIGGER:-PT60M
END:VEVENT
END:VCALENDAR
