BEGIN:VCALENDAR
VERSION:2.0
CALSCALE:GREGORIAN
PRODID:UnionActive
BEGIN:VEVENT
UID:11838581@ibew2.org
SUMMARY:RENEW Meeting
DESCRIPTION:Contact:  \nLink for more information: http://ibew2.org/index.cfm?zone=/unionactive/view_calendar.cfm&calendarID=11838581&thisdate=03/08/2027&useCalSection=main
LOCATION:
URL:http://ibew2.org/index.cfm?zone=/unionactive/view_calendar.cfm&calendarID=11838581&thisdate=03/08/2027&useCalSection=main
DTSTART:20270309T000000Z
DTEND:20270309T004500Z
DTSTAMP:20240229T143250
TRIGGER:-PT60M
END:VEVENT
END:VCALENDAR
