BEGIN:VCALENDAR
VERSION:2.0
CALSCALE:GREGORIAN
PRODID:UnionActive
BEGIN:VEVENT
UID:11838571@ibew2.org
SUMMARY:RENEW Meeting
DESCRIPTION:Contact:  \nLink for more information: http://ibew2.org/index.cfm?zone=/unionactive/view_calendar.cfm&calendarID=11838571&thisdate=05/11/2026&useCalSection=main
LOCATION:
URL:http://ibew2.org/index.cfm?zone=/unionactive/view_calendar.cfm&calendarID=11838571&thisdate=05/11/2026&useCalSection=main
DTSTART:20260511T230000Z
DTEND:20260511T234500Z
DTSTAMP:20240229T143028
TRIGGER:-PT60M
END:VEVENT
END:VCALENDAR
