BEGIN:VCALENDAR
VERSION:2.0
CALSCALE:GREGORIAN
PRODID:UnionActive
BEGIN:VEVENT
UID:11838567@ibew2.org
SUMMARY:RENEW Meeting
DESCRIPTION:Contact:  \nLink for more information: http://ibew2.org/index.cfm?zone=/unionactive/view_calendar.cfm&calendarID=11838567&thisdate=01/12/2026&useCalSection=main
LOCATION:
URL:http://ibew2.org/index.cfm?zone=/unionactive/view_calendar.cfm&calendarID=11838567&thisdate=01/12/2026&useCalSection=main
DTSTART:20260113T000000Z
DTEND:20260113T004500Z
DTSTAMP:20240229T143031
TRIGGER:-PT60M
END:VEVENT
END:VCALENDAR
