BEGIN:VCALENDAR
VERSION:2.0
CALSCALE:GREGORIAN
PRODID:UnionActive
BEGIN:VEVENT
UID:11838566@ibew2.org
SUMMARY:RENEW Meeting
DESCRIPTION:Contact:  \nLink for more information: http://ibew2.org/index.cfm?zone=/unionactive/view_calendar.cfm&calendarID=11838566&thisdate=12/08/2025&useCalSection=main
LOCATION:
URL:http://ibew2.org/index.cfm?zone=/unionactive/view_calendar.cfm&calendarID=11838566&thisdate=12/08/2025&useCalSection=main
DTSTART:20251209T000000Z
DTEND:20251209T004500Z
DTSTAMP:20240229T142738
TRIGGER:-PT60M
END:VEVENT
END:VCALENDAR
