BEGIN:VCALENDAR
VERSION:2.0
CALSCALE:GREGORIAN
PRODID:UnionActive
BEGIN:VEVENT
UID:11838559@ibew2.org
SUMMARY:RENEW Meeting
DESCRIPTION:Contact:  \nLink for more information: http://ibew2.org/index.cfm?zone=/unionactive/view_calendar.cfm&calendarID=11838559&thisdate=05/12/2025&useCalSection=main
LOCATION:
URL:http://ibew2.org/index.cfm?zone=/unionactive/view_calendar.cfm&calendarID=11838559&thisdate=05/12/2025&useCalSection=main
DTSTART:20250512T230000Z
DTEND:20250512T234500Z
DTSTAMP:20240229T142654
TRIGGER:-PT60M
END:VEVENT
END:VCALENDAR
