BEGIN:VCALENDAR
VERSION:2.0
CALSCALE:GREGORIAN
PRODID:UnionActive
BEGIN:VEVENT
UID:11838554@ibew2.org
SUMMARY:RENEW Meeting
DESCRIPTION:Contact:  \nLink for more information: http://ibew2.org/index.cfm?zone=/unionactive/view_calendar.cfm&calendarID=11838554&thisdate=12/09/2024&useCalSection=main
LOCATION:
URL:http://ibew2.org/index.cfm?zone=/unionactive/view_calendar.cfm&calendarID=11838554&thisdate=12/09/2024&useCalSection=main
DTSTART:20241210T000000Z
DTEND:20241210T004500Z
DTSTAMP:20240229T141911
TRIGGER:-PT60M
END:VEVENT
END:VCALENDAR
