BEGIN:VCALENDAR
VERSION:2.0
CALSCALE:GREGORIAN
PRODID:UnionActive
BEGIN:VEVENT
UID:11838550@ibew2.org
SUMMARY:RENEW Meeting
DESCRIPTION:Contact:  \nLink for more information: http://ibew2.org/index.cfm?zone=/unionactive/view_calendar.cfm&calendarID=11838550&thisdate=08/12/2024&useCalSection=main
LOCATION:
URL:http://ibew2.org/index.cfm?zone=/unionactive/view_calendar.cfm&calendarID=11838550&thisdate=08/12/2024&useCalSection=main
DTSTART:20240812T230000Z
DTEND:20240812T234500Z
DTSTAMP:20240229T141942
TRIGGER:-PT60M
END:VEVENT
END:VCALENDAR
