BEGIN:VCALENDAR
VERSION:2.0
CALSCALE:GREGORIAN
PRODID:UnionActive
BEGIN:VEVENT
UID:11838547@ibew2.org
SUMMARY:RENEW Meeting
DESCRIPTION:Contact:  \nLink for more information: http://ibew2.org/index.cfm?zone=/unionactive/view_calendar.cfm&calendarID=11838547&thisdate=05/13/2024&useCalSection=main
LOCATION:
URL:http://ibew2.org/index.cfm?zone=/unionactive/view_calendar.cfm&calendarID=11838547&thisdate=05/13/2024&useCalSection=main
DTSTART:20240513T230000Z
DTEND:20240513T234500Z
DTSTAMP:20240229T142232
TRIGGER:-PT60M
END:VEVENT
END:VCALENDAR
