BEGIN:VCALENDAR
VERSION:2.0
CALSCALE:GREGORIAN
PRODID:UnionActive
BEGIN:VEVENT
UID:11838544@ibew2.org
SUMMARY:RENEW Meeting
DESCRIPTION:Contact:  \nLink for more information: http://ibew2.org/index.cfm?zone=/unionactive/view_calendar.cfm&calendarID=11838544&thisdate=02/12/2024&useCalSection=main
LOCATION:
URL:http://ibew2.org/index.cfm?zone=/unionactive/view_calendar.cfm&calendarID=11838544&thisdate=02/12/2024&useCalSection=main
DTSTART:20240213T000000Z
DTEND:20240213T004500Z
DTSTAMP:20240229T140346
TRIGGER:-PT60M
END:VEVENT
END:VCALENDAR
