BEGIN:VCALENDAR
VERSION:2.0
CALSCALE:GREGORIAN
PRODID:UnionActive
BEGIN:VEVENT
UID:11838542@ibew2.org
SUMMARY:RENEW Meeting
DESCRIPTION:Contact:  \nLink for more information: http://ibew2.org/index.cfm?zone=/unionactive/view_calendar.cfm&calendarID=11838542&thisdate=12/11/2023&useCalSection=main
LOCATION:
URL:http://ibew2.org/index.cfm?zone=/unionactive/view_calendar.cfm&calendarID=11838542&thisdate=12/11/2023&useCalSection=main
DTSTART:20231212T000000Z
DTEND:20231212T004500Z
DTSTAMP:20240229T142608
TRIGGER:-PT60M
END:VEVENT
END:VCALENDAR
