BEGIN:VCALENDAR
VERSION:2.0
CALSCALE:GREGORIAN
PRODID:UnionActive
BEGIN:VEVENT
UID:11838541@ibew2.org
SUMMARY:RENEW Meeting
DESCRIPTION:Contact:  \nLink for more information: http://ibew2.org/index.cfm?zone=/unionactive/view_calendar.cfm&calendarID=11838541&thisdate=11/13/2023&useCalSection=main
LOCATION:
URL:http://ibew2.org/index.cfm?zone=/unionactive/view_calendar.cfm&calendarID=11838541&thisdate=11/13/2023&useCalSection=main
DTSTART:20231114T000000Z
DTEND:20231114T004500Z
DTSTAMP:20240229T142248
TRIGGER:-PT60M
END:VEVENT
END:VCALENDAR
