BEGIN:VCALENDAR
VERSION:2.0
CALSCALE:GREGORIAN
PRODID:UnionActive
BEGIN:VEVENT
UID:11838539@ibew2.org
SUMMARY:RENEW Meeting
DESCRIPTION:Contact:  \nLink for more information: http://ibew2.org/index.cfm?zone=/unionactive/view_calendar.cfm&calendarID=11838539&thisdate=09/11/2023&useCalSection=main
LOCATION:
URL:http://ibew2.org/index.cfm?zone=/unionactive/view_calendar.cfm&calendarID=11838539&thisdate=09/11/2023&useCalSection=main
DTSTART:20230911T230000Z
DTEND:20230911T234500Z
DTSTAMP:20240229T142653
TRIGGER:-PT60M
END:VEVENT
END:VCALENDAR
