BEGIN:VCALENDAR
VERSION:2.0
CALSCALE:GREGORIAN
PRODID:UnionActive
BEGIN:VEVENT
UID:11838528@ibew2.org
SUMMARY:RENEW Meeting
DESCRIPTION:Contact:  \nLink for more information: http://ibew2.org/index.cfm?zone=/unionactive/view_calendar.cfm&calendarID=11838528&thisdate=10/10/2022&useCalSection=main
LOCATION:
URL:http://ibew2.org/index.cfm?zone=/unionactive/view_calendar.cfm&calendarID=11838528&thisdate=10/10/2022&useCalSection=main
DTSTART:20221010T230000Z
DTEND:20221010T234500Z
DTSTAMP:20240229T142940
TRIGGER:-PT60M
END:VEVENT
END:VCALENDAR
