BEGIN:VCALENDAR
VERSION:2.0
CALSCALE:GREGORIAN
PRODID:UnionActive
BEGIN:VEVENT
UID:11838527@ibew2.org
SUMMARY:RENEW Meeting
DESCRIPTION:Contact:  \nLink for more information: http://ibew2.org/index.cfm?zone=/unionactive/view_calendar.cfm&calendarID=11838527&thisdate=09/12/2022&useCalSection=main
LOCATION:
URL:http://ibew2.org/index.cfm?zone=/unionactive/view_calendar.cfm&calendarID=11838527&thisdate=09/12/2022&useCalSection=main
DTSTART:20220912T230000Z
DTEND:20220912T234500Z
DTSTAMP:20240229T142942
TRIGGER:-PT60M
END:VEVENT
END:VCALENDAR
