BEGIN:VCALENDAR
VERSION:2.0
CALSCALE:GREGORIAN
PRODID:UnionActive
BEGIN:VEVENT
UID:11838517@ibew2.org
SUMMARY:RENEW Meeting
DESCRIPTION:Contact:  \nLink for more information: http://ibew2.org/index.cfm?zone=/unionactive/view_calendar.cfm&calendarID=11838517&thisdate=11/08/2021&useCalSection=main
LOCATION:
URL:http://ibew2.org/index.cfm?zone=/unionactive/view_calendar.cfm&calendarID=11838517&thisdate=11/08/2021&useCalSection=main
DTSTART:20211109T000000Z
DTEND:20211109T004500Z
DTSTAMP:20240229T143143
TRIGGER:-PT60M
END:VEVENT
END:VCALENDAR
