BEGIN:VCALENDAR
VERSION:2.0
CALSCALE:GREGORIAN
PRODID:UnionActive
BEGIN:VEVENT
UID:11838514@ibew2.org
SUMMARY:RENEW Meeting
DESCRIPTION:Contact:  \nLink for more information: http://ibew2.org/index.cfm?zone=/unionactive/view_calendar.cfm&calendarID=11838514&thisdate=08/09/2021&useCalSection=main
LOCATION:
URL:http://ibew2.org/index.cfm?zone=/unionactive/view_calendar.cfm&calendarID=11838514&thisdate=08/09/2021&useCalSection=main
DTSTART:20210809T230000Z
DTEND:20210809T234500Z
DTSTAMP:20240229T143145
TRIGGER:-PT60M
END:VEVENT
END:VCALENDAR
