BEGIN:VCALENDAR
VERSION:2.0
CALSCALE:GREGORIAN
PRODID:UnionActive
BEGIN:VEVENT
UID:11838508@ibew2.org
SUMMARY:Hannibal BPW Unit Meeting
DESCRIPTION:Contact:  \nLink for more information: http://ibew2.org/index.cfm?zone=/unionactive/view_calendar.cfm&calendarID=11838508&thisdate=02/08/2046&useCalSection=main
LOCATION:
URL:http://ibew2.org/index.cfm?zone=/unionactive/view_calendar.cfm&calendarID=11838508&thisdate=02/08/2046&useCalSection=main
DTSTART:20460208T220000Z
DTEND:20460209T000000Z
DTSTAMP:20240229T150615
TRIGGER:-PT60M
END:VEVENT
END:VCALENDAR
