BEGIN:VCALENDAR
VERSION:2.0
CALSCALE:GREGORIAN
PRODID:UnionActive
BEGIN:VEVENT
UID:11838502@ibew2.org
SUMMARY:Hannibal BPW Unit Meeting
DESCRIPTION:Contact:  \nLink for more information: http://ibew2.org/index.cfm?zone=/unionactive/view_calendar.cfm&calendarID=11838502&thisdate=02/09/2045&useCalSection=main
LOCATION:
URL:http://ibew2.org/index.cfm?zone=/unionactive/view_calendar.cfm&calendarID=11838502&thisdate=02/09/2045&useCalSection=main
DTSTART:20450209T220000Z
DTEND:20450210T000000Z
DTSTAMP:20240229T150451
TRIGGER:-PT60M
END:VEVENT
END:VCALENDAR
