BEGIN:VCALENDAR
VERSION:2.0
CALSCALE:GREGORIAN
PRODID:UnionActive
BEGIN:VEVENT
UID:11838498@ibew2.org
SUMMARY:Hannibal BPW Unit Meeting
DESCRIPTION:Contact:  \nLink for more information: http://ibew2.org/index.cfm?zone=/unionactive/view_calendar.cfm&calendarID=11838498&thisdate=06/09/2044&useCalSection=main
LOCATION:
URL:http://ibew2.org/index.cfm?zone=/unionactive/view_calendar.cfm&calendarID=11838498&thisdate=06/09/2044&useCalSection=main
DTSTART:20440609T210000Z
DTEND:20440609T230000Z
DTSTAMP:20240229T150253
TRIGGER:-PT60M
END:VEVENT
END:VCALENDAR
