BEGIN:VCALENDAR
VERSION:2.0
CALSCALE:GREGORIAN
PRODID:UnionActive
BEGIN:VEVENT
UID:11838494@ibew2.org
SUMMARY:Hannibal BPW Unit Meeting
DESCRIPTION:Contact:  \nLink for more information: http://ibew2.org/index.cfm?zone=/unionactive/view_calendar.cfm&calendarID=11838494&thisdate=10/08/2043&useCalSection=main
LOCATION:
URL:http://ibew2.org/index.cfm?zone=/unionactive/view_calendar.cfm&calendarID=11838494&thisdate=10/08/2043&useCalSection=main
DTSTART:20431008T210000Z
DTEND:20431008T230000Z
DTSTAMP:20240229T150135
TRIGGER:-PT60M
END:VEVENT
END:VCALENDAR
