BEGIN:VCALENDAR
VERSION:2.0
CALSCALE:GREGORIAN
PRODID:UnionActive
BEGIN:VEVENT
UID:11838490@ibew2.org
SUMMARY:Hannibal BPW Unit Meeting
DESCRIPTION:Contact:  \nLink for more information: http://ibew2.org/index.cfm?zone=/unionactive/view_calendar.cfm&calendarID=11838490&thisdate=02/12/2043&useCalSection=main
LOCATION:
URL:http://ibew2.org/index.cfm?zone=/unionactive/view_calendar.cfm&calendarID=11838490&thisdate=02/12/2043&useCalSection=main
DTSTART:20430212T220000Z
DTEND:20430213T000000Z
DTSTAMP:20240229T150124
TRIGGER:-PT60M
END:VEVENT
END:VCALENDAR
