BEGIN:VCALENDAR
VERSION:2.0
CALSCALE:GREGORIAN
PRODID:UnionActive
BEGIN:VEVENT
UID:11838489@ibew2.org
SUMMARY:Hannibal BPW Unit Meeting
DESCRIPTION:Contact:  \nLink for more information: http://ibew2.org/index.cfm?zone=/unionactive/view_calendar.cfm&calendarID=11838489&thisdate=12/11/2042&useCalSection=main
LOCATION:
URL:http://ibew2.org/index.cfm?zone=/unionactive/view_calendar.cfm&calendarID=11838489&thisdate=12/11/2042&useCalSection=main
DTSTART:20421211T220000Z
DTEND:20421212T000000Z
DTSTAMP:20240229T145951
TRIGGER:-PT60M
END:VEVENT
END:VCALENDAR
