BEGIN:VCALENDAR
VERSION:2.0
CALSCALE:GREGORIAN
PRODID:UnionActive
BEGIN:VEVENT
UID:11838488@ibew2.org
SUMMARY:Hannibal BPW Unit Meeting
DESCRIPTION:Contact:  \nLink for more information: http://ibew2.org/index.cfm?zone=/unionactive/view_calendar.cfm&calendarID=11838488&thisdate=10/09/2042&useCalSection=main
LOCATION:
URL:http://ibew2.org/index.cfm?zone=/unionactive/view_calendar.cfm&calendarID=11838488&thisdate=10/09/2042&useCalSection=main
DTSTART:20421009T210000Z
DTEND:20421009T230000Z
DTSTAMP:20240229T145950
TRIGGER:-PT60M
END:VEVENT
END:VCALENDAR
