BEGIN:VCALENDAR
VERSION:2.0
CALSCALE:GREGORIAN
PRODID:UnionActive
BEGIN:VEVENT
UID:11838482@ibew2.org
SUMMARY:Hannibal BPW Unit Meeting
DESCRIPTION:Contact:  \nLink for more information: http://ibew2.org/index.cfm?zone=/unionactive/view_calendar.cfm&calendarID=11838482&thisdate=10/10/2041&useCalSection=main
LOCATION:
URL:http://ibew2.org/index.cfm?zone=/unionactive/view_calendar.cfm&calendarID=11838482&thisdate=10/10/2041&useCalSection=main
DTSTART:20411010T210000Z
DTEND:20411010T230000Z
DTSTAMP:20240229T145744
TRIGGER:-PT60M
END:VEVENT
END:VCALENDAR
