BEGIN:VCALENDAR
VERSION:2.0
CALSCALE:GREGORIAN
PRODID:UnionActive
BEGIN:VEVENT
UID:11838481@ibew2.org
SUMMARY:Hannibal BPW Unit Meeting
DESCRIPTION:Contact:  \nLink for more information: http://ibew2.org/index.cfm?zone=/unionactive/view_calendar.cfm&calendarID=11838481&thisdate=08/08/2041&useCalSection=main
LOCATION:
URL:http://ibew2.org/index.cfm?zone=/unionactive/view_calendar.cfm&calendarID=11838481&thisdate=08/08/2041&useCalSection=main
DTSTART:20410808T210000Z
DTEND:20410808T230000Z
DTSTAMP:20240229T145758
TRIGGER:-PT60M
END:VEVENT
END:VCALENDAR
