BEGIN:VCALENDAR
VERSION:2.0
CALSCALE:GREGORIAN
PRODID:UnionActive
BEGIN:VEVENT
UID:11838472@ibew2.org
SUMMARY:Hannibal BPW Unit Meeting
DESCRIPTION:Contact:  \nLink for more information: http://ibew2.org/index.cfm?zone=/unionactive/view_calendar.cfm&calendarID=11838472&thisdate=02/09/2040&useCalSection=main
LOCATION:
URL:http://ibew2.org/index.cfm?zone=/unionactive/view_calendar.cfm&calendarID=11838472&thisdate=02/09/2040&useCalSection=main
DTSTART:20400209T220000Z
DTEND:20400210T000000Z
DTSTAMP:20240229T145538
TRIGGER:-PT60M
END:VEVENT
END:VCALENDAR
