BEGIN:VCALENDAR
VERSION:2.0
CALSCALE:GREGORIAN
PRODID:UnionActive
BEGIN:VEVENT
UID:11838466@ibew2.org
SUMMARY:Hannibal BPW Unit Meeting
DESCRIPTION:Contact:  \nLink for more information: http://ibew2.org/index.cfm?zone=/unionactive/view_calendar.cfm&calendarID=11838466&thisdate=02/10/2039&useCalSection=main
LOCATION:
URL:http://ibew2.org/index.cfm?zone=/unionactive/view_calendar.cfm&calendarID=11838466&thisdate=02/10/2039&useCalSection=main
DTSTART:20390210T220000Z
DTEND:20390211T000000Z
DTSTAMP:20240229T145322
TRIGGER:-PT60M
END:VEVENT
END:VCALENDAR
