BEGIN:VCALENDAR
VERSION:2.0
CALSCALE:GREGORIAN
PRODID:UnionActive
BEGIN:VEVENT
UID:11838458@ibew2.org
SUMMARY:Hannibal BPW Unit Meeting
DESCRIPTION:Contact:  \nLink for more information: http://ibew2.org/index.cfm?zone=/unionactive/view_calendar.cfm&calendarID=11838458&thisdate=10/08/2037&useCalSection=main
LOCATION:
URL:http://ibew2.org/index.cfm?zone=/unionactive/view_calendar.cfm&calendarID=11838458&thisdate=10/08/2037&useCalSection=main
DTSTART:20371008T210000Z
DTEND:20371008T230000Z
DTSTAMP:20240229T145017
TRIGGER:-PT60M
END:VEVENT
END:VCALENDAR
