BEGIN:VCALENDAR
VERSION:2.0
CALSCALE:GREGORIAN
PRODID:UnionActive
BEGIN:VEVENT
UID:11838456@ibew2.org
SUMMARY:Hannibal BPW Unit Meeting
DESCRIPTION:Contact:  \nLink for more information: http://ibew2.org/index.cfm?zone=/unionactive/view_calendar.cfm&calendarID=11838456&thisdate=06/11/2037&useCalSection=main
LOCATION:
URL:http://ibew2.org/index.cfm?zone=/unionactive/view_calendar.cfm&calendarID=11838456&thisdate=06/11/2037&useCalSection=main
DTSTART:20370611T210000Z
DTEND:20370611T230000Z
DTSTAMP:20240229T145005
TRIGGER:-PT60M
END:VEVENT
END:VCALENDAR
