BEGIN:VCALENDAR
VERSION:2.0
CALSCALE:GREGORIAN
PRODID:UnionActive
BEGIN:VEVENT
UID:11838453@ibew2.org
SUMMARY:Hannibal BPW Unit Meeting
DESCRIPTION:Contact:  \nLink for more information: http://ibew2.org/index.cfm?zone=/unionactive/view_calendar.cfm&calendarID=11838453&thisdate=12/11/2036&useCalSection=main
LOCATION:
URL:http://ibew2.org/index.cfm?zone=/unionactive/view_calendar.cfm&calendarID=11838453&thisdate=12/11/2036&useCalSection=main
DTSTART:20361211T220000Z
DTEND:20361212T000000Z
DTSTAMP:20240229T144820
TRIGGER:-PT60M
END:VEVENT
END:VCALENDAR
