BEGIN:VCALENDAR
VERSION:2.0
CALSCALE:GREGORIAN
PRODID:UnionActive
BEGIN:VEVENT
UID:11838451@ibew2.org
SUMMARY:Hannibal BPW Unit Meeting
DESCRIPTION:Contact:  \nLink for more information: http://ibew2.org/index.cfm?zone=/unionactive/view_calendar.cfm&calendarID=11838451&thisdate=08/14/2036&useCalSection=main
LOCATION:
URL:http://ibew2.org/index.cfm?zone=/unionactive/view_calendar.cfm&calendarID=11838451&thisdate=08/14/2036&useCalSection=main
DTSTART:20360814T210000Z
DTEND:20360814T230000Z
DTSTAMP:20240229T144735
TRIGGER:-PT60M
END:VEVENT
END:VCALENDAR
