BEGIN:VCALENDAR
VERSION:2.0
CALSCALE:GREGORIAN
PRODID:UnionActive
BEGIN:VEVENT
UID:11838447@ibew2.org
SUMMARY:Hannibal BPW Unit Meeting
DESCRIPTION:Contact:  \nLink for more information: http://ibew2.org/index.cfm?zone=/unionactive/view_calendar.cfm&calendarID=11838447&thisdate=12/13/2035&useCalSection=main
LOCATION:
URL:http://ibew2.org/index.cfm?zone=/unionactive/view_calendar.cfm&calendarID=11838447&thisdate=12/13/2035&useCalSection=main
DTSTART:20351213T220000Z
DTEND:20351214T000000Z
DTSTAMP:20240229T144549
TRIGGER:-PT60M
END:VEVENT
END:VCALENDAR
