BEGIN:VCALENDAR
VERSION:2.0
CALSCALE:GREGORIAN
PRODID:UnionActive
BEGIN:VEVENT
UID:11838440@ibew2.org
SUMMARY:Hannibal BPW Unit Meeting
DESCRIPTION:Contact:  \nLink for more information: http://ibew2.org/index.cfm?zone=/unionactive/view_calendar.cfm&calendarID=11838440&thisdate=10/12/2034&useCalSection=main
LOCATION:
URL:http://ibew2.org/index.cfm?zone=/unionactive/view_calendar.cfm&calendarID=11838440&thisdate=10/12/2034&useCalSection=main
DTSTART:20341012T210000Z
DTEND:20341012T230000Z
DTSTAMP:20240229T144231
TRIGGER:-PT60M
END:VEVENT
END:VCALENDAR
