BEGIN:VCALENDAR
VERSION:2.0
CALSCALE:GREGORIAN
PRODID:UnionActive
BEGIN:VEVENT
UID:11838412@ibew2.org
SUMMARY:Hannibal BPW Unit Meeting
DESCRIPTION:Contact:  \nLink for more information: http://ibew2.org/index.cfm?zone=/unionactive/view_calendar.cfm&calendarID=11838412&thisdate=02/14/2030&useCalSection=main
LOCATION:
URL:http://ibew2.org/index.cfm?zone=/unionactive/view_calendar.cfm&calendarID=11838412&thisdate=02/14/2030&useCalSection=main
DTSTART:20300214T220000Z
DTEND:20300215T000000Z
DTSTAMP:20240229T143625
TRIGGER:-PT60M
END:VEVENT
END:VCALENDAR
