BEGIN:VCALENDAR
VERSION:2.0
CALSCALE:GREGORIAN
PRODID:UnionActive
BEGIN:VEVENT
UID:11838408@ibew2.org
SUMMARY:Hannibal BPW Unit Meeting
DESCRIPTION:Contact:  \nLink for more information: http://ibew2.org/index.cfm?zone=/unionactive/view_calendar.cfm&calendarID=11838408&thisdate=06/14/2029&useCalSection=main
LOCATION:
URL:http://ibew2.org/index.cfm?zone=/unionactive/view_calendar.cfm&calendarID=11838408&thisdate=06/14/2029&useCalSection=main
DTSTART:20290614T210000Z
DTEND:20290614T230000Z
DTSTAMP:20240229T143411
TRIGGER:-PT60M
END:VEVENT
END:VCALENDAR
