BEGIN:VCALENDAR
VERSION:2.0
CALSCALE:GREGORIAN
PRODID:UnionActive
BEGIN:VEVENT
UID:11838402@ibew2.org
SUMMARY:Hannibal BPW Unit Meeting
DESCRIPTION:Contact:  \nLink for more information: http://ibew2.org/index.cfm?zone=/unionactive/view_calendar.cfm&calendarID=11838402&thisdate=06/08/2028&useCalSection=main
LOCATION:
URL:http://ibew2.org/index.cfm?zone=/unionactive/view_calendar.cfm&calendarID=11838402&thisdate=06/08/2028&useCalSection=main
DTSTART:20280608T210000Z
DTEND:20280608T230000Z
DTSTAMP:20240229T143207
TRIGGER:-PT60M
END:VEVENT
END:VCALENDAR
