BEGIN:VCALENDAR
VERSION:2.0
CALSCALE:GREGORIAN
PRODID:UnionActive
BEGIN:VEVENT
UID:11838401@ibew2.org
SUMMARY:Hannibal BPW Unit Meeting
DESCRIPTION:Contact:  \nLink for more information: http://ibew2.org/index.cfm?zone=/unionactive/view_calendar.cfm&calendarID=11838401&thisdate=04/13/2028&useCalSection=main
LOCATION:
URL:http://ibew2.org/index.cfm?zone=/unionactive/view_calendar.cfm&calendarID=11838401&thisdate=04/13/2028&useCalSection=main
DTSTART:20280413T210000Z
DTEND:20280413T230000Z
DTSTAMP:20240229T143248
TRIGGER:-PT60M
END:VEVENT
END:VCALENDAR
