BEGIN:VCALENDAR
VERSION:2.0
CALSCALE:GREGORIAN
PRODID:UnionActive
BEGIN:VEVENT
UID:11838397@ibew2.org
SUMMARY:Hannibal BPW Unit Meeting
DESCRIPTION:Contact:  \nLink for more information: http://ibew2.org/index.cfm?zone=/unionactive/view_calendar.cfm&calendarID=11838397&thisdate=08/12/2027&useCalSection=main
LOCATION:
URL:http://ibew2.org/index.cfm?zone=/unionactive/view_calendar.cfm&calendarID=11838397&thisdate=08/12/2027&useCalSection=main
DTSTART:20270812T210000Z
DTEND:20270812T230000Z
DTSTAMP:20240229T143025
TRIGGER:-PT60M
END:VEVENT
END:VCALENDAR
