BEGIN:VCALENDAR
VERSION:2.0
CALSCALE:GREGORIAN
PRODID:UnionActive
BEGIN:VEVENT
UID:11838377@ibew2.org
SUMMARY:Hannibal BPW Unit Meeting
DESCRIPTION:Contact:  \nLink for more information: http://ibew2.org/index.cfm?zone=/unionactive/view_calendar.cfm&calendarID=11838377&thisdate=04/11/2024&useCalSection=main
LOCATION:
URL:http://ibew2.org/index.cfm?zone=/unionactive/view_calendar.cfm&calendarID=11838377&thisdate=04/11/2024&useCalSection=main
DTSTART:20240411T210000Z
DTEND:20240411T230000Z
DTSTAMP:20240229T141946
TRIGGER:-PT60M
END:VEVENT
END:VCALENDAR
