BEGIN:VCALENDAR
VERSION:2.0
CALSCALE:GREGORIAN
PRODID:UnionActive
BEGIN:VEVENT
UID:11838375@ibew2.org
SUMMARY:Hannibal BPW Unit Meeting
DESCRIPTION:Contact:  \nLink for more information: http://ibew2.org/index.cfm?zone=/unionactive/view_calendar.cfm&calendarID=11838375&thisdate=12/14/2023&useCalSection=main
LOCATION:
URL:http://ibew2.org/index.cfm?zone=/unionactive/view_calendar.cfm&calendarID=11838375&thisdate=12/14/2023&useCalSection=main
DTSTART:20231214T220000Z
DTEND:20231215T000000Z
DTSTAMP:20240229T142243
TRIGGER:-PT60M
END:VEVENT
END:VCALENDAR
