BEGIN:VCALENDAR
VERSION:2.0
CALSCALE:GREGORIAN
PRODID:UnionActive
BEGIN:VEVENT
UID:11838361@ibew2.org
SUMMARY:Hannibal BPW Unit Meeting
DESCRIPTION:Contact:  \nLink for more information: http://ibew2.org/index.cfm?zone=/unionactive/view_calendar.cfm&calendarID=11838361&thisdate=08/12/2021&useCalSection=main
LOCATION:
URL:http://ibew2.org/index.cfm?zone=/unionactive/view_calendar.cfm&calendarID=11838361&thisdate=08/12/2021&useCalSection=main
DTSTART:20210812T210000Z
DTEND:20210812T230000Z
DTSTAMP:20240229T142912
TRIGGER:-PT60M
END:VEVENT
END:VCALENDAR
