BEGIN:VCALENDAR
VERSION:2.0
CALSCALE:GREGORIAN
PRODID:UnionActive
BEGIN:VEVENT
UID:11838353@ibew2.org
SUMMARY:Lewis County REC Unit Meeting
DESCRIPTION:Contact:  \nLink for more information: http://ibew2.org/index.cfm?zone=/unionactive/view_calendar.cfm&calendarID=11838353&thisdate=04/12/2045&useCalSection=main
LOCATION:
URL:http://ibew2.org/index.cfm?zone=/unionactive/view_calendar.cfm&calendarID=11838353&thisdate=04/12/2045&useCalSection=main
DTSTART:20450412T213000Z
DTEND:20450412T223000Z
DTSTAMP:20240229T150446
TRIGGER:-PT60M
END:VEVENT
END:VCALENDAR
