BEGIN:VCALENDAR
VERSION:2.0
CALSCALE:GREGORIAN
PRODID:UnionActive
BEGIN:VEVENT
UID:11838345@ibew2.org
SUMMARY:Lewis County REC Unit Meeting
DESCRIPTION:Contact:  \nLink for more information: http://ibew2.org/index.cfm?zone=/unionactive/view_calendar.cfm&calendarID=11838345&thisdate=12/09/2043&useCalSection=main
LOCATION:
URL:http://ibew2.org/index.cfm?zone=/unionactive/view_calendar.cfm&calendarID=11838345&thisdate=12/09/2043&useCalSection=main
DTSTART:20431209T223000Z
DTEND:20431209T233000Z
DTSTAMP:20240229T150132
TRIGGER:-PT60M
END:VEVENT
END:VCALENDAR
