BEGIN:VCALENDAR
VERSION:2.0
CALSCALE:GREGORIAN
PRODID:UnionActive
BEGIN:VEVENT
UID:11838339@ibew2.org
SUMMARY:Lewis County REC Unit Meeting
DESCRIPTION:Contact:  \nLink for more information: http://ibew2.org/index.cfm?zone=/unionactive/view_calendar.cfm&calendarID=11838339&thisdate=12/10/2042&useCalSection=main
LOCATION:
URL:http://ibew2.org/index.cfm?zone=/unionactive/view_calendar.cfm&calendarID=11838339&thisdate=12/10/2042&useCalSection=main
DTSTART:20421210T223000Z
DTEND:20421210T233000Z
DTSTAMP:20240229T145905
TRIGGER:-PT60M
END:VEVENT
END:VCALENDAR
