BEGIN:VCALENDAR
VERSION:2.0
CALSCALE:GREGORIAN
PRODID:UnionActive
BEGIN:VEVENT
UID:11838324@ibew2.org
SUMMARY:Lewis County REC Unit Meeting
DESCRIPTION:Contact:  \nLink for more information: http://ibew2.org/index.cfm?zone=/unionactive/view_calendar.cfm&calendarID=11838324&thisdate=06/13/2040&useCalSection=main
LOCATION:
URL:http://ibew2.org/index.cfm?zone=/unionactive/view_calendar.cfm&calendarID=11838324&thisdate=06/13/2040&useCalSection=main
DTSTART:20400613T213000Z
DTEND:20400613T223000Z
DTSTAMP:20240229T145522
TRIGGER:-PT60M
END:VEVENT
END:VCALENDAR
