BEGIN:VCALENDAR
VERSION:2.0
CALSCALE:GREGORIAN
PRODID:UnionActive
BEGIN:VEVENT
UID:11838321@ibew2.org
SUMMARY:Lewis County REC Unit Meeting
DESCRIPTION:Contact:  \nLink for more information: http://ibew2.org/index.cfm?zone=/unionactive/view_calendar.cfm&calendarID=11838321&thisdate=12/14/2039&useCalSection=main
LOCATION:
URL:http://ibew2.org/index.cfm?zone=/unionactive/view_calendar.cfm&calendarID=11838321&thisdate=12/14/2039&useCalSection=main
DTSTART:20391214T223000Z
DTEND:20391214T233000Z
DTSTAMP:20240229T145328
TRIGGER:-PT60M
END:VEVENT
END:VCALENDAR
