BEGIN:VCALENDAR
VERSION:2.0
CALSCALE:GREGORIAN
PRODID:UnionActive
BEGIN:VEVENT
UID:11838320@ibew2.org
SUMMARY:Lewis County REC Unit Meeting
DESCRIPTION:Contact:  \nLink for more information: http://ibew2.org/index.cfm?zone=/unionactive/view_calendar.cfm&calendarID=11838320&thisdate=10/12/2039&useCalSection=main
LOCATION:
URL:http://ibew2.org/index.cfm?zone=/unionactive/view_calendar.cfm&calendarID=11838320&thisdate=10/12/2039&useCalSection=main
DTSTART:20391012T213000Z
DTEND:20391012T223000Z
DTSTAMP:20240229T145321
TRIGGER:-PT60M
END:VEVENT
END:VCALENDAR
