BEGIN:VCALENDAR
VERSION:2.0
CALSCALE:GREGORIAN
PRODID:UnionActive
BEGIN:VEVENT
UID:11838317@ibew2.org
SUMMARY:Lewis County REC Unit Meeting
DESCRIPTION:Contact:  \nLink for more information: http://ibew2.org/index.cfm?zone=/unionactive/view_calendar.cfm&calendarID=11838317&thisdate=04/13/2039&useCalSection=main
LOCATION:
URL:http://ibew2.org/index.cfm?zone=/unionactive/view_calendar.cfm&calendarID=11838317&thisdate=04/13/2039&useCalSection=main
DTSTART:20390413T213000Z
DTEND:20390413T223000Z
DTSTAMP:20240229T145359
TRIGGER:-PT60M
END:VEVENT
END:VCALENDAR
